BEGIN:VCALENDAR
VERSION:2.0
PRODID:-//wp-events-plugin.com//7.2.3.1//EN
TZID:America/Chicago
X-WR-TIMEZONE:America/Chicago
BEGIN:VEVENT
UID:165@summitbhc.com
DTSTART;TZID=America/New_York:20260507T100000
DTEND;TZID=America/New_York:20260507T120000
DTSTAMP:20260202T173451Z
URL:https://summitbhc.com/events/digital-ethics-keeping-confidentiality-cl
 ick-safe/
SUMMARY:Digital Ethics: Keeping Confidentiality Click-Safe
DESCRIPTION:
ATTACH;FMTTYPE=image/jpeg:https://summitbhc.com/wp-content/uploads/2026/02
 /Justitia-Digital-Ethics.jpg
END:VEVENT
BEGIN:VTIMEZONE
TZID:America/New_York
X-LIC-LOCATION:America/New_York
BEGIN:DAYLIGHT
DTSTART:20260308T030000
TZOFFSETFROM:-0500
TZOFFSETTO:-0400
TZNAME:EDT
END:DAYLIGHT
END:VTIMEZONE
END:VCALENDAR