BEGIN:VCALENDAR
VERSION:2.0
PRODID:-//wp-events-plugin.com//7.2.3.1//EN
TZID:America/Chicago
X-WR-TIMEZONE:America/Chicago
BEGIN:VEVENT
UID:32@summitbhc.com
DTSTART;TZID=America/New_York:20250716T100000
DTEND;TZID=America/New_York:20250717T170000
DTSTAMP:20250703T181445Z
URL:https://summitbhc.com/events/personal-injury-assessor-training/
SUMMARY:Personal Injury Assessor Training
DESCRIPTION:
ATTACH;FMTTYPE=image/jpeg:https://summitbhc.com/wp-content/uploads/2024/08
 /Personal-Injury-Edited-Objectives.jpg
END:VEVENT
BEGIN:VTIMEZONE
TZID:America/New_York
X-LIC-LOCATION:America/New_York
BEGIN:DAYLIGHT
DTSTART:20250309T030000
TZOFFSETFROM:-0500
TZOFFSETTO:-0400
TZNAME:EDT
END:DAYLIGHT
END:VTIMEZONE
END:VCALENDAR