BEGIN:VCALENDAR
VERSION:2.0
PRODID:-//wp-events-plugin.com//7.2.3.1//EN
TZID:America/Chicago
X-WR-TIMEZONE:America/Chicago
BEGIN:VEVENT
UID:96@summitbhc.com
DTSTART;TZID=America/New_York:20250806T100000
DTEND;TZID=America/New_York:20250806T131500
DTSTAMP:20250703T182627Z
URL:https://summitbhc.com/events/unveiling-the-disconnected-mind-understan
 ding-dissociation/
SUMMARY:Unveiling the Disconnected Mind: Understanding Dissociation
DESCRIPTION:
ATTACH;FMTTYPE=image/jpeg:https://summitbhc.com/wp-content/uploads/2025/03
 /Dissociation-Augut-Virtual-edited-objectives.jpg
END:VEVENT
BEGIN:VTIMEZONE
TZID:America/New_York
X-LIC-LOCATION:America/New_York
BEGIN:DAYLIGHT
DTSTART:20250309T030000
TZOFFSETFROM:-0500
TZOFFSETTO:-0400
TZNAME:EDT
END:DAYLIGHT
END:VTIMEZONE
END:VCALENDAR